BEGIN:VCALENDAR
VERSION:2.0
PRODID:-//Association of Specialty Cut Flower Growers - ECPv6.15.20//NONSGML v1.0//EN
CALSCALE:GREGORIAN
METHOD:PUBLISH
X-WR-CALNAME:Association of Specialty Cut Flower Growers
X-ORIGINAL-URL:https://www.ascfg.org
X-WR-CALDESC:Events for Association of Specialty Cut Flower Growers
REFRESH-INTERVAL;VALUE=DURATION:PT1H
X-Robots-Tag:noindex
X-PUBLISHED-TTL:PT1H
BEGIN:VTIMEZONE
TZID:America/New_York
BEGIN:DAYLIGHT
TZOFFSETFROM:-0500
TZOFFSETTO:-0400
TZNAME:EDT
DTSTART:20250309T070000
END:DAYLIGHT
BEGIN:STANDARD
TZOFFSETFROM:-0400
TZOFFSETTO:-0500
TZNAME:EST
DTSTART:20251102T060000
END:STANDARD
BEGIN:DAYLIGHT
TZOFFSETFROM:-0500
TZOFFSETTO:-0400
TZNAME:EDT
DTSTART:20260308T070000
END:DAYLIGHT
BEGIN:STANDARD
TZOFFSETFROM:-0400
TZOFFSETTO:-0500
TZNAME:EST
DTSTART:20261101T060000
END:STANDARD
BEGIN:DAYLIGHT
TZOFFSETFROM:-0500
TZOFFSETTO:-0400
TZNAME:EDT
DTSTART:20270314T070000
END:DAYLIGHT
BEGIN:STANDARD
TZOFFSETFROM:-0400
TZOFFSETTO:-0500
TZNAME:EST
DTSTART:20271107T060000
END:STANDARD
END:VTIMEZONE
BEGIN:VTIMEZONE
TZID:America/Los_Angeles
BEGIN:DAYLIGHT
TZOFFSETFROM:-0800
TZOFFSETTO:-0700
TZNAME:PDT
DTSTART:20250309T100000
END:DAYLIGHT
BEGIN:STANDARD
TZOFFSETFROM:-0700
TZOFFSETTO:-0800
TZNAME:PST
DTSTART:20251102T090000
END:STANDARD
BEGIN:DAYLIGHT
TZOFFSETFROM:-0800
TZOFFSETTO:-0700
TZNAME:PDT
DTSTART:20260308T100000
END:DAYLIGHT
BEGIN:STANDARD
TZOFFSETFROM:-0700
TZOFFSETTO:-0800
TZNAME:PST
DTSTART:20261101T090000
END:STANDARD
BEGIN:DAYLIGHT
TZOFFSETFROM:-0800
TZOFFSETTO:-0700
TZNAME:PDT
DTSTART:20270314T100000
END:DAYLIGHT
BEGIN:STANDARD
TZOFFSETFROM:-0700
TZOFFSETTO:-0800
TZNAME:PST
DTSTART:20271107T090000
END:STANDARD
END:VTIMEZONE
BEGIN:VEVENT
DTSTART;TZID=America/New_York:20260818T080000
DTEND;TZID=America/New_York:20260818T170000
DTSTAMP:20260423T022435
CREATED:20260129T225624Z
LAST-MODIFIED:20260310T192222Z
UID:23226-1787040000-1787072400@www.ascfg.org
SUMMARY:Farm Tour: Ganden Gardens
DESCRIPTION:Host: Nancy Jordan and Katrina Jordan\nGanden Gardens\n1416 Rodney Ln\nWinchester\, ON K0C 2K0\, Canada\nLimited to 75 attendees.\nRegistration Fee: Coming soon! \nEvent Overview: Ganden Gardens is a family-owned\, mother-daughter operated flower farm in Winchester\, Ontario\, Canada\, cultivating specialty cut flowers across five acres of their thirty-acre property. With a focus on sustainability and seasonal beauty\, they grow over 100 varieties of annuals\, perennials\, shrubs\, and trees. The farm offers bouquet subscriptions\, edible flowers\, and hosts workshops and events\, providing unique\, locally grown blooms beyond what traditional florists offer. This exciting farm tour will be followed by a floral design event and is included with the registration fee. \nRegister Today!\n  \nSPONSORED BY \n \n \n 
URL:https://www.ascfg.org/event/farm-tour-ganden-gardens/
LOCATION:Ganden Gardens\, 1416 Rodney Ln\, Winchester\, Ontario\, K0C 2K0\, United States
CATEGORIES:Farm Tours
ATTACH;FMTTYPE=image/jpeg:https://www.ascfg.org/wp-content/uploads/Ganden-Gardens-Cropped.jpg
ORGANIZER;CN="Association of Specialty Cut Flower Growers":MAILTO:membership@ascfg.org
END:VEVENT
BEGIN:VEVENT
DTSTART;TZID=America/Los_Angeles:20260825T080000
DTEND;TZID=America/Los_Angeles:20260825T170000
DTSTAMP:20260423T022435
CREATED:20260129T230003Z
LAST-MODIFIED:20260310T192745Z
UID:23229-1787644800-1787677200@www.ascfg.org
SUMMARY:Farm Tour: Charles Little & Company
DESCRIPTION:Host: Charles and Bethany Little\nCharles Little & Co.\n34573 Seavey Loop Rd\, Eugene\, OR 97405\n(541) 517-4171\nLimited to 60 attendees.\nRegistration Fee: Coming soon! \nEvent Overview: Join a guided farm tour at Charles Little & Company in Eugene\, Oregon\, where you’ll walk through acres of specialty‑cut flowers\, foliage\, and ornamental crops grown in rich Willamette Valley soil. Attendees will learn how the farm operates seasonally\, with clip‑your‑own (U‑Pick) fields\, a flower barn and farm‑stand\, and an emphasis on field‑grown\, non‑forced blooms. This program will be a full day farm tour\, with the morning tour of the fields led by Charles Little and an afternoon tour of the farm infrastructure led by Bethany Little. Lunch will be provided. \nRegister Today!
URL:https://www.ascfg.org/event/farm-tour-charles-little-company/
LOCATION:Charles Little & Company\, 34573 Seavey Loop Rd\, Eugene\, OR\, 97405\, United States
CATEGORIES:Farm Tours
ATTACH;FMTTYPE=image/jpeg:https://www.ascfg.org/wp-content/uploads/6-e1769727591178.jpg
ORGANIZER;CN="Association of Specialty Cut Flower Growers":MAILTO:membership@ascfg.org
END:VEVENT
BEGIN:VEVENT
DTSTART;TZID=America/New_York:20260930T080000
DTEND;TZID=America/New_York:20260930T120000
DTSTAMP:20260423T022435
CREATED:20260129T230410Z
LAST-MODIFIED:20260310T192950Z
UID:23232-1790755200-1790769600@www.ascfg.org
SUMMARY:Farm Tour: 3 Porch Farm
DESCRIPTION:Host: Steve and Mandy O’Shea\n3 Porch Farm\n135 Francis Hill Rd\, Comer\, GA 30629\nLimited to 50 attendees.\nRegistration: Coming soon! \n\nEvent Overview: 3 Porch Farm is a small\, sustainable flower farm in Comer\, Georgia\, cultivating seasonal cut flowers with eco-friendly practices. Guided by the motto “Principles before Profit\,” owners Steve and Mandy O’Shea emphasize organic growing methods\, solar-powered operations\, and a strong commitment to community and workers\, offering fresh blooms and artisan goods through their farm store. During this half day tour\, attendees will learn about growing dahlias in the South and will receive a tour of the farm’s operations and sustainability programs. Lunch will not be provided. \nRegister Today!\nSponsored by:
URL:https://www.ascfg.org/event/farm-tour-3-porch-farm/
LOCATION:3 Porch Farm\, 135 Francis Hill Rd\, Comer\, GA\, 30629\, United States
CATEGORIES:Farm Tours
ATTACH;FMTTYPE=image/jpeg:https://www.ascfg.org/wp-content/uploads/7-e1769727839816.jpg
ORGANIZER;CN="Association of Specialty Cut Flower Growers":MAILTO:membership@ascfg.org
END:VEVENT
BEGIN:VEVENT
DTSTART;TZID=America/New_York:20261002T080000
DTEND;TZID=America/New_York:20261002T170000
DTSTAMP:20260423T022435
CREATED:20260129T230731Z
LAST-MODIFIED:20260310T193133Z
UID:23235-1790928000-1790960400@www.ascfg.org
SUMMARY:Farm Tour: Petal Pickers Flower Co.
DESCRIPTION:Petal Pickers Flower Co.\n\n\n\n\nHost: Daniel Schavey\nPetal Pickers Flower Co.\n95 Big Survey Rd.\, Piedmont\, SC 29673\nLimited to 50 attendees.\nRegistration: Coming soon! \n\nEvent Overview: Petal Pickers Flower Co.\, founded in 2017 and based near Greenville/Piedmont\, South Carolina\, is a vibrant specialty‑cut flower farm that embraces heirloom varieties\, fragrance\, and seasonal drama. Farm‑owner Daniel Schavey and his team cultivate fields of dahlias\, ranunculus\, lisianthus\, and other expressive stems\, with a mission to grow blooms that linger in the vase and tell a story. They supply retail and wholesale florists\, offer bouquet subscriptions\, and ship fresh seasonal bouquets nationwide. Attendees will tour the farm and learn about the operations in this full day farm tour. Lunch will be provided. \nRegister Today!
URL:https://www.ascfg.org/event/farm-tour-petal-pickers-flower-co/
LOCATION:Petal Pickers Flower Co.\, 95 Big Survey Rd\, Piedmont\, SC\, 29673\, United States
CATEGORIES:Farm Tours
ATTACH;FMTTYPE=image/jpeg:https://www.ascfg.org/wp-content/uploads/8-e1769728041317.jpg
ORGANIZER;CN="Association of Specialty Cut Flower Growers":MAILTO:membership@ascfg.org
END:VEVENT
END:VCALENDAR