BEGIN:VCALENDAR
VERSION:2.0
PRODID:-//Association of Specialty Cut Flower Growers - ECPv6.15.20//NONSGML v1.0//EN
CALSCALE:GREGORIAN
METHOD:PUBLISH
X-WR-CALNAME:Association of Specialty Cut Flower Growers
X-ORIGINAL-URL:https://www.ascfg.org
X-WR-CALDESC:Events for Association of Specialty Cut Flower Growers
REFRESH-INTERVAL;VALUE=DURATION:PT1H
X-Robots-Tag:noindex
X-PUBLISHED-TTL:PT1H
BEGIN:VTIMEZONE
TZID:America/New_York
BEGIN:DAYLIGHT
TZOFFSETFROM:-0500
TZOFFSETTO:-0400
TZNAME:EDT
DTSTART:20250309T070000
END:DAYLIGHT
BEGIN:STANDARD
TZOFFSETFROM:-0400
TZOFFSETTO:-0500
TZNAME:EST
DTSTART:20251102T060000
END:STANDARD
BEGIN:DAYLIGHT
TZOFFSETFROM:-0500
TZOFFSETTO:-0400
TZNAME:EDT
DTSTART:20260308T070000
END:DAYLIGHT
BEGIN:STANDARD
TZOFFSETFROM:-0400
TZOFFSETTO:-0500
TZNAME:EST
DTSTART:20261101T060000
END:STANDARD
BEGIN:DAYLIGHT
TZOFFSETFROM:-0500
TZOFFSETTO:-0400
TZNAME:EDT
DTSTART:20270314T070000
END:DAYLIGHT
BEGIN:STANDARD
TZOFFSETFROM:-0400
TZOFFSETTO:-0500
TZNAME:EST
DTSTART:20271107T060000
END:STANDARD
END:VTIMEZONE
BEGIN:VEVENT
DTSTART;TZID=America/New_York:20260930T080000
DTEND;TZID=America/New_York:20260930T120000
DTSTAMP:20260419T110405
CREATED:20260129T230410Z
LAST-MODIFIED:20260310T192950Z
UID:23232-1790755200-1790769600@www.ascfg.org
SUMMARY:Farm Tour: 3 Porch Farm
DESCRIPTION:Host: Steve and Mandy O’Shea\n3 Porch Farm\n135 Francis Hill Rd\, Comer\, GA 30629\nLimited to 50 attendees.\nRegistration: Coming soon! \n\nEvent Overview: 3 Porch Farm is a small\, sustainable flower farm in Comer\, Georgia\, cultivating seasonal cut flowers with eco-friendly practices. Guided by the motto “Principles before Profit\,” owners Steve and Mandy O’Shea emphasize organic growing methods\, solar-powered operations\, and a strong commitment to community and workers\, offering fresh blooms and artisan goods through their farm store. During this half day tour\, attendees will learn about growing dahlias in the South and will receive a tour of the farm’s operations and sustainability programs. Lunch will not be provided. \nRegister Today!\nSponsored by:
URL:https://www.ascfg.org/event/farm-tour-3-porch-farm/
LOCATION:3 Porch Farm\, 135 Francis Hill Rd\, Comer\, GA\, 30629\, United States
CATEGORIES:Farm Tours
ATTACH;FMTTYPE=image/jpeg:https://www.ascfg.org/wp-content/uploads/7-e1769727839816.jpg
ORGANIZER;CN="Association of Specialty Cut Flower Growers":MAILTO:membership@ascfg.org
END:VEVENT
END:VCALENDAR