BEGIN:VCALENDAR
VERSION:2.0
PRODID:-//Association of Specialty Cut Flower Growers - ECPv6.15.20//NONSGML v1.0//EN
CALSCALE:GREGORIAN
METHOD:PUBLISH
X-WR-CALNAME:Association of Specialty Cut Flower Growers
X-ORIGINAL-URL:https://www.ascfg.org
X-WR-CALDESC:Events for Association of Specialty Cut Flower Growers
REFRESH-INTERVAL;VALUE=DURATION:PT1H
X-Robots-Tag:noindex
X-PUBLISHED-TTL:PT1H
BEGIN:VTIMEZONE
TZID:America/New_York
BEGIN:DAYLIGHT
TZOFFSETFROM:-0500
TZOFFSETTO:-0400
TZNAME:EDT
DTSTART:20240310T070000
END:DAYLIGHT
BEGIN:STANDARD
TZOFFSETFROM:-0400
TZOFFSETTO:-0500
TZNAME:EST
DTSTART:20241103T060000
END:STANDARD
BEGIN:DAYLIGHT
TZOFFSETFROM:-0500
TZOFFSETTO:-0400
TZNAME:EDT
DTSTART:20250309T070000
END:DAYLIGHT
BEGIN:STANDARD
TZOFFSETFROM:-0400
TZOFFSETTO:-0500
TZNAME:EST
DTSTART:20251102T060000
END:STANDARD
BEGIN:DAYLIGHT
TZOFFSETFROM:-0500
TZOFFSETTO:-0400
TZNAME:EDT
DTSTART:20260308T070000
END:DAYLIGHT
BEGIN:STANDARD
TZOFFSETFROM:-0400
TZOFFSETTO:-0500
TZNAME:EST
DTSTART:20261101T060000
END:STANDARD
END:VTIMEZONE
BEGIN:VEVENT
DTSTART;TZID=America/New_York:20250610T090000
DTEND;TZID=America/New_York:20250610T130000
DTSTAMP:20260419T174408
CREATED:20250121T195443Z
LAST-MODIFIED:20250213T191859Z
UID:19565-1749546000-1749560400@www.ascfg.org
SUMMARY:Farm Tour: Creekside Flower Farm
DESCRIPTION:Host: Morgan Sharpe\nCreekside Flower Farm\nChattanooga\, TN\nhttps://www.creeksideflowerfarm.com/\n9:00 a.m. – 1:00 p.m.\nLimited to 125 attendees.\nRegistration Fee: $125. \nEvent Overview: Join Morgan Sharpe of Creekside Flower Farm for a farm tour! Morgan is a farmer-florist who offers florals for weddings and events and sells her blooms to florists. Her floral design style has been formed by the natural world\, and often characterized as organic\, loose and whimsical. Attendees will get an overview of her crop selections\, color palettes\, event services design\, and overall farm practices. Lunch will not be provided. \nSponsored by: \n \nRegister Today!
URL:https://www.ascfg.org/event/farm-tour-creekside-flower-farm/
LOCATION:Creekside Flower Farm\, 16141 Road 43\, Chattanooga\, TN\, 95637\, United States
CATEGORIES:Farm Tours
ATTACH;FMTTYPE=image/jpeg:https://www.ascfg.org/wp-content/uploads/Morgan-Sharpe-1-e1737489493465.jpg
ORGANIZER;CN="Association of Specialty Cut Flower Growers":MAILTO:membership@ascfg.org
END:VEVENT
END:VCALENDAR