BEGIN:VCALENDAR
VERSION:2.0
PRODID:-//Association of Specialty Cut Flower Growers - ECPv6.15.20//NONSGML v1.0//EN
CALSCALE:GREGORIAN
METHOD:PUBLISH
X-ORIGINAL-URL:https://www.ascfg.org
X-WR-CALDESC:Events for Association of Specialty Cut Flower Growers
REFRESH-INTERVAL;VALUE=DURATION:PT1H
X-Robots-Tag:noindex
X-PUBLISHED-TTL:PT1H
BEGIN:VTIMEZONE
TZID:America/New_York
BEGIN:DAYLIGHT
TZOFFSETFROM:-0500
TZOFFSETTO:-0400
TZNAME:EDT
DTSTART:20240310T070000
END:DAYLIGHT
BEGIN:STANDARD
TZOFFSETFROM:-0400
TZOFFSETTO:-0500
TZNAME:EST
DTSTART:20241103T060000
END:STANDARD
BEGIN:DAYLIGHT
TZOFFSETFROM:-0500
TZOFFSETTO:-0400
TZNAME:EDT
DTSTART:20250309T070000
END:DAYLIGHT
BEGIN:STANDARD
TZOFFSETFROM:-0400
TZOFFSETTO:-0500
TZNAME:EST
DTSTART:20251102T060000
END:STANDARD
BEGIN:DAYLIGHT
TZOFFSETFROM:-0500
TZOFFSETTO:-0400
TZNAME:EDT
DTSTART:20260308T070000
END:DAYLIGHT
BEGIN:STANDARD
TZOFFSETFROM:-0400
TZOFFSETTO:-0500
TZNAME:EST
DTSTART:20261101T060000
END:STANDARD
END:VTIMEZONE
BEGIN:VEVENT
DTSTART;TZID=America/New_York:20250521T090000
DTEND;TZID=America/New_York:20250521T130000
DTSTAMP:20260419T190821
CREATED:20250121T194820Z
LAST-MODIFIED:20250213T191745Z
UID:19561-1747818000-1747832400@www.ascfg.org
SUMMARY:Farm Tour: Full Belly Farm
DESCRIPTION:Host: Hannah Muller\nFull Belly Farm\n16141 Road 43\nGuinda\, CA 95637\nhttps://fullbellyfarm.com/\n9:00 a.m. – 1:00 p.m.\nLimited to 60 attendees.\nRegistration Fee: $100. \n\n\nEvent Overview: Join Hannah Muller\, flower farmer and founder of The Wreath Room\, at Full Belly Farm for a half day tour of this extensive operation. Full Belly Farm is a certified organic farm located in the beautiful Capay Valley of northern California\, growing over 15 acres of certified organic flowers from January through October. With over 100 varieties including sunflowers\, ranunculus\, tulips\, calendula\, and amaranth there is always something blooming and beautiful. With a thriving CSA\, floral services for events\, and dried botanicals\, there is something for every attendee! Light snacks and water will be provided; however\, lunch will not be provided. \n\n\n\nSponsored by:\n\n\n\nRegister Today!
URL:https://www.ascfg.org/event/farm-tour-full-belly-farm/
LOCATION:Full Belly Farm\, 16141 Road 43\, Guinda\, CA\, 95637\, United States
CATEGORIES:Farm Tours
ATTACH;FMTTYPE=image/jpeg:https://www.ascfg.org/wp-content/uploads/Muller-1-e1737489589600.jpg
ORGANIZER;CN="Association of Specialty Cut Flower Growers":MAILTO:membership@ascfg.org
END:VEVENT
END:VCALENDAR