BEGIN:VCALENDAR
VERSION:2.0
PRODID:-//Association of Specialty Cut Flower Growers - ECPv6.15.20//NONSGML v1.0//EN
CALSCALE:GREGORIAN
METHOD:PUBLISH
X-WR-CALNAME:Association of Specialty Cut Flower Growers
X-ORIGINAL-URL:https://www.ascfg.org
X-WR-CALDESC:Events for Association of Specialty Cut Flower Growers
REFRESH-INTERVAL;VALUE=DURATION:PT1H
X-Robots-Tag:noindex
X-PUBLISHED-TTL:PT1H
BEGIN:VTIMEZONE
TZID:America/New_York
BEGIN:DAYLIGHT
TZOFFSETFROM:-0500
TZOFFSETTO:-0400
TZNAME:EDT
DTSTART:20240310T070000
END:DAYLIGHT
BEGIN:STANDARD
TZOFFSETFROM:-0400
TZOFFSETTO:-0500
TZNAME:EST
DTSTART:20241103T060000
END:STANDARD
BEGIN:DAYLIGHT
TZOFFSETFROM:-0500
TZOFFSETTO:-0400
TZNAME:EDT
DTSTART:20250309T070000
END:DAYLIGHT
BEGIN:STANDARD
TZOFFSETFROM:-0400
TZOFFSETTO:-0500
TZNAME:EST
DTSTART:20251102T060000
END:STANDARD
BEGIN:DAYLIGHT
TZOFFSETFROM:-0500
TZOFFSETTO:-0400
TZNAME:EDT
DTSTART:20260308T070000
END:DAYLIGHT
BEGIN:STANDARD
TZOFFSETFROM:-0400
TZOFFSETTO:-0500
TZNAME:EST
DTSTART:20261101T060000
END:STANDARD
END:VTIMEZONE
BEGIN:VEVENT
DTSTART;TZID=America/New_York:20250408T083000
DTEND;TZID=America/New_York:20250408T130000
DTSTAMP:20260419T203039
CREATED:20250121T194031Z
LAST-MODIFIED:20250304T171737Z
UID:19557-1744101000-1744117200@www.ascfg.org
SUMMARY:Farm Tour: Wollam Gardens
DESCRIPTION:Host: Bob Wollam\nWollam Gardens\n5167 Jeffersonton Rd\nJeffersonton VA 22724\n8:30 a.m. to 1:00 p.m.\nwww.wollamgardens.com\nLimited to 80 attendees.\nRegistration Fee: $125. \nEvent Overview: Join the renowned Bob Wollam at Wollam Gardens for an exciting tour of this fantastic operation. Wollam Gardens is an 11 acre cut-flower farm and event destination\, featuring a flower farm stand\, a U-Pick garden\, a gift shop\, a bed and breakfast\, an event center\, and much more. Learn about the origins and evolution of this spectacular farm from a longtime cut flower farmer and ASCFG legend. Attendees will take away practical ideas for their operations and inspiration for future offerings. \nSponsored by: \n \n\n\n\nRegister Today!
URL:https://www.ascfg.org/event/farm-tour-wollam-gardens/
LOCATION:Wollam Gardens\, 5167 Jeffersonton Rd\, Jeffersonton\, VA\, 22724\, United States
CATEGORIES:Farm Tours
ATTACH;FMTTYPE=image/png:https://www.ascfg.org/wp-content/uploads/WG-illustrative-Logo-V1-e1737490087309.png
ORGANIZER;CN="Association of Specialty Cut Flower Growers":MAILTO:membership@ascfg.org
END:VEVENT
END:VCALENDAR