BEGIN:VCALENDAR
VERSION:2.0
PRODID:-//Association of Specialty Cut Flower Growers - ECPv6.15.20//NONSGML v1.0//EN
CALSCALE:GREGORIAN
METHOD:PUBLISH
X-ORIGINAL-URL:https://www.ascfg.org
X-WR-CALDESC:Events for Association of Specialty Cut Flower Growers
REFRESH-INTERVAL;VALUE=DURATION:PT1H
X-Robots-Tag:noindex
X-PUBLISHED-TTL:PT1H
BEGIN:VTIMEZONE
TZID:America/New_York
BEGIN:DAYLIGHT
TZOFFSETFROM:-0500
TZOFFSETTO:-0400
TZNAME:EDT
DTSTART:20220313T070000
END:DAYLIGHT
BEGIN:STANDARD
TZOFFSETFROM:-0400
TZOFFSETTO:-0500
TZNAME:EST
DTSTART:20221106T060000
END:STANDARD
BEGIN:DAYLIGHT
TZOFFSETFROM:-0500
TZOFFSETTO:-0400
TZNAME:EDT
DTSTART:20230312T070000
END:DAYLIGHT
BEGIN:STANDARD
TZOFFSETFROM:-0400
TZOFFSETTO:-0500
TZNAME:EST
DTSTART:20231105T060000
END:STANDARD
BEGIN:DAYLIGHT
TZOFFSETFROM:-0500
TZOFFSETTO:-0400
TZNAME:EDT
DTSTART:20240310T070000
END:DAYLIGHT
BEGIN:STANDARD
TZOFFSETFROM:-0400
TZOFFSETTO:-0500
TZNAME:EST
DTSTART:20241103T060000
END:STANDARD
END:VTIMEZONE
BEGIN:VEVENT
DTSTART;TZID=America/New_York:20230815T130000
DTEND;TZID=America/New_York:20230815T160000
DTSTAMP:20260423T005823
CREATED:20230103T210730Z
LAST-MODIFIED:20230707T191108Z
UID:12645-1692104400-1692115200@www.ascfg.org
SUMMARY:ASCFG Farm Tour: Bloom Hill Farm
DESCRIPTION:Quick Details \n\nHosts: Judd and Shannon Allen\nAddress: 10475 Hoover Avenue NW\, Uniontown\, OH 44685\nWebsite: www.bloomhillfarm.com\nDate and Time: August 15\, 2023\, from 1:00 p.m. to 4:00 p.m.\nAttendance Cap: Limited to 75 attendees.\n\nFrom the Hosts \nWe are Judd and Shannon Allen We have the honor and privilege of farming our land together and creating a lot of beauty in this world. When we started\, we had 1/4 acre and three children under three. We’ve learned so much since we planted those seeds 6+ years ago! We’ve expanded the farm every year and now it includes eleven acres of cut flowers. Our children have grown right along with the farm and now we get to live our dreams together everyday\, \nBloom Hill Farm is a specialty cut flower farm growing on over eleven acres. This includes nine acres of annuals\, one acre of perennials and woody cut shrubs\, and four greenhouses. Our season runs late March through October starting with specialty tulips and ending with mums and other fall tunnel flowers. We plant over 10\,000 dahlias each year and specialize in other crops such as sunflowers\, ranunculus\, anemone\, and lisianthus. Our farm utilizes biodegradable plastic as our main weed control method. Over the last six years\, we have grown our farm from 1/4 acre to over eleven acres and attribute that success to a lot of hard lessons learned\, perseverance\, and business focused decision making. \nOur current sales outlets include: wedding and event design\, on farm events\, farm stand\, retail florals\, florists\, grocery and wholesale accounts. The farm also supports an over 125 person CSA model. \nIn 2022\, our farm was featured in a national John Deere advertisement. Shannon is the co-host of flower farming podcast\, The Dirt on Flowers\, and together they mentor other farmers with on farm consulting. \nRegister \nSPONSORED BY
URL:https://www.ascfg.org/event/ascfg-farm-tour-bloom-hill-farm/
LOCATION:SC
CATEGORIES:Farm Tours
ATTACH;FMTTYPE=image/jpeg:https://www.ascfg.org/wp-content/uploads/bloom-hill-farm-84-landscape-e1672780034932.jpg
ORGANIZER;CN="Association of Specialty Cut Flower Growers":MAILTO:membership@ascfg.org
END:VEVENT
END:VCALENDAR