BEGIN:VCALENDAR
VERSION:2.0
PRODID:-//Association of Specialty Cut Flower Growers - ECPv6.15.20//NONSGML v1.0//EN
CALSCALE:GREGORIAN
METHOD:PUBLISH
X-WR-CALNAME:Association of Specialty Cut Flower Growers
X-ORIGINAL-URL:https://www.ascfg.org
X-WR-CALDESC:Events for Association of Specialty Cut Flower Growers
REFRESH-INTERVAL;VALUE=DURATION:PT1H
X-Robots-Tag:noindex
X-PUBLISHED-TTL:PT1H
BEGIN:VTIMEZONE
TZID:America/New_York
BEGIN:DAYLIGHT
TZOFFSETFROM:-0500
TZOFFSETTO:-0400
TZNAME:EDT
DTSTART:20220313T070000
END:DAYLIGHT
BEGIN:STANDARD
TZOFFSETFROM:-0400
TZOFFSETTO:-0500
TZNAME:EST
DTSTART:20221106T060000
END:STANDARD
BEGIN:DAYLIGHT
TZOFFSETFROM:-0500
TZOFFSETTO:-0400
TZNAME:EDT
DTSTART:20230312T070000
END:DAYLIGHT
BEGIN:STANDARD
TZOFFSETFROM:-0400
TZOFFSETTO:-0500
TZNAME:EST
DTSTART:20231105T060000
END:STANDARD
BEGIN:DAYLIGHT
TZOFFSETFROM:-0500
TZOFFSETTO:-0400
TZNAME:EDT
DTSTART:20240310T070000
END:DAYLIGHT
BEGIN:STANDARD
TZOFFSETFROM:-0400
TZOFFSETTO:-0500
TZNAME:EST
DTSTART:20241103T060000
END:STANDARD
END:VTIMEZONE
BEGIN:VEVENT
DTSTART;TZID=America/New_York:20230531T130000
DTEND;TZID=America/New_York:20230531T170000
DTSTAMP:20260423T034247
CREATED:20221130T212139Z
LAST-MODIFIED:20230103T204158Z
UID:12123-1685538000-1685552400@www.ascfg.org
SUMMARY:ASCFG Farm Tour: CA & J Farm
DESCRIPTION:Quick Details \n\nHost: Jean Howard\nAddress: 5620 East River Road\, Foster\, Virginia\nWebsite: www.cajfarm.com\nDate and Time: May 31\, 2023\, from 1:00 p.m. — 5:00 p.m.\nAttendance Cap: Limited to 50 attendees.\n\nFrom the Host \nWe are an example of all you can do with only five acres! We opened in 2017. We are an off-grid solar\, educational\, herb\, egg\, cut flower\, and music farm in Mathews County\, Virginia. We do everything small scale\, using organic practices. We also present programs on farm\, off farm and online; offer an annual herbalist course. We share knowledge on natural wellness\, living simple and self-sustaining\, farm skills\, and healing music. Our farm includes chickens\, ducks\, rabbits\, beehives\, 3 big dogs\, herb and cut flower gardens\, hoophouse\, grow room\, indoor education and music center\, large outdoor stage\, meditation areas\, Yellow Barn Store\, refreshment area\, large firepit gathering area. We are open to the public—a good example of adding agritourism to your farm model. We have a Non-Profit Fiscal Sponsor for the Music at the Farm. \nWe will discuss our efforts to produce cut flowers organically\, as well as an herb talk\, “Staying healthy at any age – so we can do the work we love!” There will be time to enjoy the labyrinth\, peace pole\, and woodland wellness walk. \nRegister
URL:https://www.ascfg.org/event/ca-j-farm/
LOCATION:CA & J Farm\, 5620 East River Road\, Foster\, VA\, United States
CATEGORIES:Farm Tours
ATTACH;FMTTYPE=image/png:https://www.ascfg.org/wp-content/uploads/Jean-Howard-300x195-1.png
END:VEVENT
END:VCALENDAR