BEGIN:VCALENDAR
VERSION:2.0
PRODID:-//Association of Specialty Cut Flower Growers - ECPv6.15.20//NONSGML v1.0//EN
CALSCALE:GREGORIAN
METHOD:PUBLISH
X-ORIGINAL-URL:https://www.ascfg.org
X-WR-CALDESC:Events for Association of Specialty Cut Flower Growers
REFRESH-INTERVAL;VALUE=DURATION:PT1H
X-Robots-Tag:noindex
X-PUBLISHED-TTL:PT1H
BEGIN:VTIMEZONE
TZID:America/Chicago
BEGIN:DAYLIGHT
TZOFFSETFROM:-0600
TZOFFSETTO:-0500
TZNAME:CDT
DTSTART:20210314T080000
END:DAYLIGHT
BEGIN:STANDARD
TZOFFSETFROM:-0500
TZOFFSETTO:-0600
TZNAME:CST
DTSTART:20211107T070000
END:STANDARD
BEGIN:DAYLIGHT
TZOFFSETFROM:-0600
TZOFFSETTO:-0500
TZNAME:CDT
DTSTART:20220313T080000
END:DAYLIGHT
BEGIN:STANDARD
TZOFFSETFROM:-0500
TZOFFSETTO:-0600
TZNAME:CST
DTSTART:20221106T070000
END:STANDARD
BEGIN:DAYLIGHT
TZOFFSETFROM:-0600
TZOFFSETTO:-0500
TZNAME:CDT
DTSTART:20230312T080000
END:DAYLIGHT
BEGIN:STANDARD
TZOFFSETFROM:-0500
TZOFFSETTO:-0600
TZNAME:CST
DTSTART:20231105T070000
END:STANDARD
END:VTIMEZONE
BEGIN:VEVENT
DTSTART;TZID=America/Chicago:20221001T130000
DTEND;TZID=America/Chicago:20221001T160000
DTSTAMP:20260423T154200
CREATED:20220831T183301Z
LAST-MODIFIED:20220906T201722Z
UID:11260-1664629200-1664640000@www.ascfg.org
SUMMARY:ASCFG Farm Tour: Daveco
DESCRIPTION:Hosts Clarence Denton and Lou Lemont of Daveco \nDetails: \n\nLimited to 32 attendees\nRegistration costs $50.00. Registrations are taken on a first-come\, first-served basis and fees are refunded only in case of emergency.\nRegister here!\n\nWhat started in 2016 as a small (15 x 32) hoophouse to grow landscape flowers and plants is now four large tunnels (5000 sq. ft.)\, and several garden areas growing cut flowers for florists in the Wichita area. Starting small and increasing our production and sales each year has allowed us to grow into our market. All our crops are grown within 50 steps of our processing and cooler area. Efficient flower farming on a small scale through succession planting\, and growing in tunnels has helped us triple our sales in three years. We plan to demonstrate the stand-up planter—custom-built for our farm—and other creative ideas to make flower farming a bit easier. Information on tunnels\, shade cloth\, pests\, and supports for our crops will also be discussed. \nWe have invited several of our florists to visit with our grower attendees. We know they have lots of question to ask of them. They have been a wealth of information for us since we started in 2018. We will have dahlias\, sunflowers\, celosia\, and dusty miller still growing in the tunnels at the time of our tour. \nSponsored by:
URL:https://www.ascfg.org/event/daveco/
LOCATION:Daveco.\, 11711 W. 47th Street S.\, Clearwater\, KS\, United States
CATEGORIES:Farm Tours
ATTACH;FMTTYPE=image/jpeg:https://www.ascfg.org/wp-content/uploads/Daveco-2.jpg
ORGANIZER;CN="ASCFG Farm Tour%3A Daveco":MAILTO:membership@ascfg.org
END:VEVENT
END:VCALENDAR