BEGIN:VCALENDAR
VERSION:2.0
PRODID:-//Association of Specialty Cut Flower Growers - ECPv6.15.20//NONSGML v1.0//EN
CALSCALE:GREGORIAN
METHOD:PUBLISH
X-ORIGINAL-URL:https://www.ascfg.org
X-WR-CALDESC:Events for Association of Specialty Cut Flower Growers
REFRESH-INTERVAL;VALUE=DURATION:PT1H
X-Robots-Tag:noindex
X-PUBLISHED-TTL:PT1H
BEGIN:VTIMEZONE
TZID:America/New_York
BEGIN:DAYLIGHT
TZOFFSETFROM:-0500
TZOFFSETTO:-0400
TZNAME:EDT
DTSTART:20240310T070000
END:DAYLIGHT
BEGIN:STANDARD
TZOFFSETFROM:-0400
TZOFFSETTO:-0500
TZNAME:EST
DTSTART:20241103T060000
END:STANDARD
BEGIN:DAYLIGHT
TZOFFSETFROM:-0500
TZOFFSETTO:-0400
TZNAME:EDT
DTSTART:20250309T070000
END:DAYLIGHT
BEGIN:STANDARD
TZOFFSETFROM:-0400
TZOFFSETTO:-0500
TZNAME:EST
DTSTART:20251102T060000
END:STANDARD
BEGIN:DAYLIGHT
TZOFFSETFROM:-0500
TZOFFSETTO:-0400
TZNAME:EDT
DTSTART:20260308T070000
END:DAYLIGHT
BEGIN:STANDARD
TZOFFSETFROM:-0400
TZOFFSETTO:-0500
TZNAME:EST
DTSTART:20261101T060000
END:STANDARD
END:VTIMEZONE
BEGIN:VEVENT
DTSTART;TZID=America/New_York:20250909T090000
DTEND;TZID=America/New_York:20250909T130000
DTSTAMP:20260419T120942
CREATED:20250304T220826Z
LAST-MODIFIED:20250304T220826Z
UID:20543-1757408400-1757422800@www.ascfg.org
SUMMARY:Farm Tour: Longwoods Flower Farm
DESCRIPTION:Host: Caroline Van Lith\nBothwell\, Ontario\nwww.longwoodsflowerfarm.com\n9:00 a.m. – 1:00 p.m.\nLimited to 50 attendees. \nJoin Caroline Van Lith at Longwoods Flower Farm for an exciting tour in September! Caroline offers a wide range of services for her clients\, including CSA subscriptions\, dahlia tubers\, chrysanthemum cuttings\, wreaths\, and weddings and events. During the farm tour\, Caroline will focus on her heirloom chrysanthemum operation and emphasize her soil amendments program; she will also provide an overview of her year-round production schedule\, discuss her unheated and heated greenhouses\, and cover the farm’s perennials\, peonies\, and more\, and the timing of each of these crops. Lunch will not be provided. \nRegister today!
URL:https://www.ascfg.org/event/farm-tour-longwoods-flower-farm/
LOCATION:Longwoods Flower Farm\, 15544 Longwoods Rd\, Bothwell\, Ontario\, N0P 1C0\, Canada
CATEGORIES:Farm Tours
ATTACH;FMTTYPE=image/jpeg:https://www.ascfg.org/wp-content/uploads/Dahlias-e1741126090508.jpg
ORGANIZER;CN="Association of Specialty Cut Flower Growers":MAILTO:membership@ascfg.org
END:VEVENT
END:VCALENDAR