BEGIN:VCALENDAR
VERSION:2.0
PRODID:-//Association of Specialty Cut Flower Growers - ECPv6.15.20//NONSGML v1.0//EN
CALSCALE:GREGORIAN
METHOD:PUBLISH
X-WR-CALNAME:Association of Specialty Cut Flower Growers
X-ORIGINAL-URL:https://www.ascfg.org
X-WR-CALDESC:Events for Association of Specialty Cut Flower Growers
REFRESH-INTERVAL;VALUE=DURATION:PT1H
X-Robots-Tag:noindex
X-PUBLISHED-TTL:PT1H
BEGIN:VTIMEZONE
TZID:America/New_York
BEGIN:DAYLIGHT
TZOFFSETFROM:-0500
TZOFFSETTO:-0400
TZNAME:EDT
DTSTART:20240310T070000
END:DAYLIGHT
BEGIN:STANDARD
TZOFFSETFROM:-0400
TZOFFSETTO:-0500
TZNAME:EST
DTSTART:20241103T060000
END:STANDARD
BEGIN:DAYLIGHT
TZOFFSETFROM:-0500
TZOFFSETTO:-0400
TZNAME:EDT
DTSTART:20250309T070000
END:DAYLIGHT
BEGIN:STANDARD
TZOFFSETFROM:-0400
TZOFFSETTO:-0500
TZNAME:EST
DTSTART:20251102T060000
END:STANDARD
BEGIN:DAYLIGHT
TZOFFSETFROM:-0500
TZOFFSETTO:-0400
TZNAME:EDT
DTSTART:20260308T070000
END:DAYLIGHT
BEGIN:STANDARD
TZOFFSETFROM:-0400
TZOFFSETTO:-0500
TZNAME:EST
DTSTART:20261101T060000
END:STANDARD
END:VTIMEZONE
BEGIN:VEVENT
DTSTART;TZID=America/New_York:20250804T090000
DTEND;TZID=America/New_York:20250804T130000
DTSTAMP:20260419T132837
CREATED:20250307T171943Z
LAST-MODIFIED:20250307T202602Z
UID:20580-1754298000-1754312400@www.ascfg.org
SUMMARY:Farm Tour: Marilla Field and Flora
DESCRIPTION:Host: Adrianne Gammie\nMarilla Field and Flora\n10203 Easton Road\nDexter\, MI\nhttps://www.marillafield.com/\n9:00 a.m. – 1:00 p.m.\nLimited to 50 attendees.\nRegistration Fee: $100 \nEvent Overview: Join Adrianne Gammie of Marilla Field and Flora for a farm tour! Adrianne is a farmer-florist who offers florals for weddings and events\, local retailers and boutiques\, and a CSA subscription for community members in her area. With a background in the fashion industry\, Adrianne’s floral design style is informed by the aesthetics and seasonality of the natural world. She offers bespoke designs that are organic\, loose and whimsical and sourced from her own farm or as close as possible\, ensuring that she uses that freshest and most local blooms. With a robust pollinator habitat on the farm\, Adrianne will cover the processes and practices associated with establishing\, growing\, and managing native pollinator fields\, including a grant application process. Attendees will also get an overview of her crop selections\, color palettes\, sales outlets\, and overall farm practices. Lunch will not be provided. \nRegister today! \nThank you\, sponsors! 
URL:https://www.ascfg.org/event/farm-tour-marilla-field-and-flora/
LOCATION:Marilla Field and Flora\, 10203 Easton Road\, Dexter\, MI\, 48130\, United States
CATEGORIES:Farm Tours
ATTACH;FMTTYPE=image/jpeg:https://www.ascfg.org/wp-content/uploads/Marilla-e1741367971462.jpg
ORGANIZER;CN="Association of Specialty Cut Flower Growers":MAILTO:membership@ascfg.org
END:VEVENT
END:VCALENDAR