BEGIN:VCALENDAR
VERSION:2.0
PRODID:-//Association of Specialty Cut Flower Growers - ECPv6.15.20//NONSGML v1.0//EN
CALSCALE:GREGORIAN
METHOD:PUBLISH
X-ORIGINAL-URL:https://www.ascfg.org
X-WR-CALDESC:Events for Association of Specialty Cut Flower Growers
REFRESH-INTERVAL;VALUE=DURATION:PT1H
X-Robots-Tag:noindex
X-PUBLISHED-TTL:PT1H
BEGIN:VTIMEZONE
TZID:America/New_York
BEGIN:DAYLIGHT
TZOFFSETFROM:-0500
TZOFFSETTO:-0400
TZNAME:EDT
DTSTART:20240310T070000
END:DAYLIGHT
BEGIN:STANDARD
TZOFFSETFROM:-0400
TZOFFSETTO:-0500
TZNAME:EST
DTSTART:20241103T060000
END:STANDARD
BEGIN:DAYLIGHT
TZOFFSETFROM:-0500
TZOFFSETTO:-0400
TZNAME:EDT
DTSTART:20250309T070000
END:DAYLIGHT
BEGIN:STANDARD
TZOFFSETFROM:-0400
TZOFFSETTO:-0500
TZNAME:EST
DTSTART:20251102T060000
END:STANDARD
BEGIN:DAYLIGHT
TZOFFSETFROM:-0500
TZOFFSETTO:-0400
TZNAME:EDT
DTSTART:20260308T070000
END:DAYLIGHT
BEGIN:STANDARD
TZOFFSETFROM:-0400
TZOFFSETTO:-0500
TZNAME:EST
DTSTART:20261101T060000
END:STANDARD
END:VTIMEZONE
BEGIN:VEVENT
DTSTART;TZID=America/New_York:20250317T100000
DTEND;TZID=America/New_York:20250317T160000
DTSTAMP:20260419T203039
CREATED:20250121T193400Z
LAST-MODIFIED:20250224T202157Z
UID:19551-1742205600-1742227200@www.ascfg.org
SUMMARY:Farm Tour: Blossom Lane Farm
DESCRIPTION:Hosts: Jonalyn Carver of Blossom Lane Farm and Julia Keel of Full Keel Farm\nTour Location: Blossom Lane Farm\nwww.blossomlanefarm.com\n1015 Stanley Lane\, Baker\, FL 32531\n(850) 733-7435\n10:00 a.m. – 4:00 p.m.\nLimited to 75 attendees.\nRegistration Fee: $175 (Includes lunch). \nEvent Overview: Jonalyn Carver of Blossom Lane Farm and Julia Keel of Full Keel Farm are technically in the same growing zone and they farm in the same state. However\, their individual microclimates ensure that they have different farm operations. Differences in growing conditions affect first and last frost dates\, nighttime temperatures\, seeding and planting timing\, crop selections\, when Jonalyn and Julia grow and sell\, sales outlets\, and agritourism\, among many other factors. Be sure to join this dynamic duo for a full day of educational programming and farm tours especially tailored for flower farmers who grow in the American Southeast\, and learn in person how two successful flower farmers have worked with their microclimates to create a flourishing business. Lunch will be provided. \nRegister Today! \nSponsored by:
URL:https://www.ascfg.org/event/farm-tour-blossom-lane-farm/
LOCATION:Blossom Lane Farm\, 1015 Stanley Lane\, \, FL\, Baker\, Florida\, 32531
CATEGORIES:Farm Tours
ATTACH;FMTTYPE=image/png:https://www.ascfg.org/wp-content/uploads/BLF2022Logo-e1737490632342.png
ORGANIZER;CN="Association of Specialty Cut Flower Growers":MAILTO:membership@ascfg.org
END:VEVENT
END:VCALENDAR