BEGIN:VCALENDAR
VERSION:2.0
PRODID:-//Association of Specialty Cut Flower Growers - ECPv6.15.20//NONSGML v1.0//EN
CALSCALE:GREGORIAN
METHOD:PUBLISH
X-WR-CALNAME:Association of Specialty Cut Flower Growers
X-ORIGINAL-URL:https://www.ascfg.org
X-WR-CALDESC:Events for Association of Specialty Cut Flower Growers
REFRESH-INTERVAL;VALUE=DURATION:PT1H
X-Robots-Tag:noindex
X-PUBLISHED-TTL:PT1H
BEGIN:VTIMEZONE
TZID:America/Denver
BEGIN:DAYLIGHT
TZOFFSETFROM:-0700
TZOFFSETTO:-0600
TZNAME:MDT
DTSTART:20220313T090000
END:DAYLIGHT
BEGIN:STANDARD
TZOFFSETFROM:-0600
TZOFFSETTO:-0700
TZNAME:MST
DTSTART:20221106T080000
END:STANDARD
BEGIN:DAYLIGHT
TZOFFSETFROM:-0700
TZOFFSETTO:-0600
TZNAME:MDT
DTSTART:20230312T090000
END:DAYLIGHT
BEGIN:STANDARD
TZOFFSETFROM:-0600
TZOFFSETTO:-0700
TZNAME:MST
DTSTART:20231105T080000
END:STANDARD
BEGIN:DAYLIGHT
TZOFFSETFROM:-0700
TZOFFSETTO:-0600
TZNAME:MDT
DTSTART:20240310T090000
END:DAYLIGHT
BEGIN:STANDARD
TZOFFSETFROM:-0600
TZOFFSETTO:-0700
TZNAME:MST
DTSTART:20241103T080000
END:STANDARD
END:VTIMEZONE
BEGIN:VEVENT
DTSTART;TZID=America/Denver:20230907T140000
DTEND;TZID=America/Denver:20230907T180000
DTSTAMP:20260422T221552
CREATED:20230808T183211Z
LAST-MODIFIED:20230808T183211Z
UID:14654-1694095200-1694109600@www.ascfg.org
SUMMARY:ASCFG Farm Tour: Whipstone Farm
DESCRIPTION:Quick Details \n\nHost: Shanti Rade\nAddress: 21640 N. Juniper Ridge Road\, Paulden\, Arizona\nWebsite: www.whipstone.com\nDate and Time: September 7\, 2023\, 2:00 p.m. – 6:00 p.m.\nAttendance Cap: Limited to 75 attendees.\n\nFrom the Host \n“Come visit our farm! We have 15 acres in production spread over two farm locations where we grow a wide variety of vegetables and cut flowers. We grow in greenhouses and fields with vegetables production 12 months of the year and flower production 9 months. This tour will focus on tools and equipment that can be employed on larger scale/mixed operations\, employee management\, and growing technique for a high-desert climate. We will talk about production and marketing for Farmers markets\, CSA’s\, Florist and wholesale outlets\, growing for dried and on-line sales.” \nRegistration
URL:https://www.ascfg.org/event/ascfg-farm-tour-whipstone-farm/
LOCATION:Whipstone Farm\, 21640 N. Juniper Ridge Road\, Paulden\, AZ\, United States
CATEGORIES:Farm Tours
ATTACH;FMTTYPE=image/webp:https://www.ascfg.org/wp-content/uploads/Ranunculus-e1680547245231.webp
END:VEVENT
END:VCALENDAR