BEGIN:VCALENDAR
VERSION:2.0
PRODID:-//Association of Specialty Cut Flower Growers - ECPv6.15.20//NONSGML v1.0//EN
CALSCALE:GREGORIAN
METHOD:PUBLISH
X-WR-CALNAME:Association of Specialty Cut Flower Growers
X-ORIGINAL-URL:https://www.ascfg.org
X-WR-CALDESC:Events for Association of Specialty Cut Flower Growers
REFRESH-INTERVAL;VALUE=DURATION:PT1H
X-Robots-Tag:noindex
X-PUBLISHED-TTL:PT1H
BEGIN:VTIMEZONE
TZID:America/New_York
BEGIN:DAYLIGHT
TZOFFSETFROM:-0500
TZOFFSETTO:-0400
TZNAME:EDT
DTSTART:20220313T070000
END:DAYLIGHT
BEGIN:STANDARD
TZOFFSETFROM:-0400
TZOFFSETTO:-0500
TZNAME:EST
DTSTART:20221106T060000
END:STANDARD
BEGIN:DAYLIGHT
TZOFFSETFROM:-0500
TZOFFSETTO:-0400
TZNAME:EDT
DTSTART:20230312T070000
END:DAYLIGHT
BEGIN:STANDARD
TZOFFSETFROM:-0400
TZOFFSETTO:-0500
TZNAME:EST
DTSTART:20231105T060000
END:STANDARD
BEGIN:DAYLIGHT
TZOFFSETFROM:-0500
TZOFFSETTO:-0400
TZNAME:EDT
DTSTART:20240310T070000
END:DAYLIGHT
BEGIN:STANDARD
TZOFFSETFROM:-0400
TZOFFSETTO:-0500
TZNAME:EST
DTSTART:20241103T060000
END:STANDARD
END:VTIMEZONE
BEGIN:VEVENT
DTSTART;TZID=America/New_York:20230721T090000
DTEND;TZID=America/New_York:20230721T120000
DTSTAMP:20260423T005411
CREATED:20230119T185447Z
LAST-MODIFIED:20230119T185447Z
UID:12844-1689930000-1689940800@www.ascfg.org
SUMMARY:ASCFG Farm Tour: Butterbee Farm
DESCRIPTION:Quick Details \n\nHost: Laura Beth and Jascha Resnick\nWebsite: https://www.butterbeefarm.com/\nDate and Time: July 21\, 2023\, from 9:00 a.m. – 12:00 p.m.\nAttendance Cap: Limited to 20 attendees.\n\nFrom the Host \nButterbee Farm is a five acre flower farm in Maryland\, specializing in quality cuts for designers and florists\, and using no-till farming methods. After ten years in business\, farmers Laura Beth and Jascha bought their own land and moved the farm. Join them at Butterbee 2.0 for an in-depth tour of their brand new farm\, including heated greenhouses\, annual and perennial fields\, livestock\, and infrastructure. Discussion topics will include moving the farm\, deciding on farm layout\, no-till farming\, and selling to florists. The tour will end with Q&A and chit chat over light snacks and beverages. Parking is limited\, please consider carpooling. Address and directions will be sent closer to the date; the farm is about 10 minutes north of Ladew Gardens in White Hall\, Maryland. \nRegistration Coming Soon!
URL:https://www.ascfg.org/event/ascfg-farm-tour-butterbee-farm/
LOCATION:SC
CATEGORIES:Farm Tours
ATTACH;FMTTYPE=image/jpeg:https://www.ascfg.org/wp-content/uploads/CM3A0702-scaled-e1674154348998.jpg
ORGANIZER;CN="Association of Specialty Cut Flower Growers":MAILTO:membership@ascfg.org
END:VEVENT
BEGIN:VEVENT
DTSTART;TZID=America/New_York:20230726T090000
DTEND;TZID=America/New_York:20230726T120000
DTSTAMP:20260423T005411
CREATED:20221130T223007Z
LAST-MODIFIED:20230103T203840Z
UID:12138-1690362000-1690372800@www.ascfg.org
SUMMARY:ASCFG Farm Tour: Floriculture Gauthier\, Inc
DESCRIPTION:Quick Details \n\nHost: Claude Gauthier\nAddress: 8645 rue Notre-Dame Ouest\, Trois-Rivieres\, Quebec\nWebsite: www.gauthierfj.qc.ca\nDate and Time: July 26\, 2023\, 9:00 a.m. to Noon\nAttendance Cap: Limited to 25 attendees.\n\nFrom the Host \nWe have about 60\,000 sq ft of field production and 3 hoops for cut flower production. We own a garden center and a flower shop\, where we sell all our cut flowers\, about 6 minutes from our field. My father started the flower shop and garden center 76 years ago. We have started producing cut flowers in a field\, just by our greenhouse production zone\, 5 years ago. I studied landscaping and greenhouse production at the University of Guelph in Ontario\, 30 years ago and it helps me a lot every day in my flower production. Our specialty is zinnias\, but we have a lot of different varieties and species. \nRegister
URL:https://www.ascfg.org/event/ascfg-farm-tour-floriculture-gauthier-inc/
LOCATION:Floriculture Gauthier\, Inc\, 8645 rue Notre-Dame Ouest\, Trois-Rivieres\, Quebec\, Canada
CATEGORIES:Farm Tours
ATTACH;FMTTYPE=image/jpeg:https://www.ascfg.org/wp-content/uploads/Gauthier-bouquet-for-page-300x169-1.jpg
END:VEVENT
END:VCALENDAR